BEGIN:VCALENDAR
VERSION:2.0
PRODID:-//Royal Rangers Backnang//NONSGML kigkonsult.se iCalcreator 2.41.92//
CALSCALE:GREGORIAN
METHOD:PUBLISH
UID:62303135-6130-4737-a132-366132386535
X-WR-CALNAME:iCagenda
X-WR-CALDESC:Event Management Extension for Joomla!
X-WR-RELCALID:3E26604A-50F4-4449-8B3E-E4F4932D05B5
X-WR-TIMEZONE:UTC
BEGIN:VTIMEZONE
TZID:UTC
END:VTIMEZONE
BEGIN:VEVENT
UID:31376561-6563-4263-b432-663934343664
DTSTAMP:20260420T111533Z
CATEGORIES:Stammtreff
CLASS:PUBLIC
DESCRIPTION:
DTSTART:20211022T144500Z
DTEND:20211022T161500Z
GEO:00;0
LOCATION:
ORGANIZER:
SEQUENCE:1
SUMMARY:Stammtreff Erbstetten (Forscher)
TRANSP:OPAQUE
URL:https://rr200.de/index.php/kalender/64-stammtreff-erbstetten-forscher/2
 021-10-22-14-45
END:VEVENT
END:VCALENDAR
